BEGIN:VCALENDAR
VERSION:2.0
PRODID:-//https://www.schule-fahrwangen.ch.pragma-hosting.com//NONSGML kigkonsult.se iCalcreator 2.41.71//
CALSCALE:GREGORIAN
METHOD:PUBLISH
UID:62616561-6534-4264-a265-383963303435
X-WR-CALNAME:JCal Pro Kalender
X-WR-CALDESC:Ihr Online-Terminkalender
X-WR-TIMEZONE:Europe/Zurich
BEGIN:VTIMEZONE
TZID:Europe/Zurich
TZUNTIL:20271031T010000Z
BEGIN:STANDARD
TZNAME:CET
DTSTART:20251026T030000
TZOFFSETFROM:+0200
TZOFFSETTO:+0100
RDATE:20261025T030000
END:STANDARD
BEGIN:DAYLIGHT
TZNAME:CEST
DTSTART:20260329T020000
TZOFFSETFROM:+0100
TZOFFSETTO:+0200
RDATE:20270328T020000
END:DAYLIGHT
END:VTIMEZONE
BEGIN:VEVENT
UID:20250703T183000UTC-0528C0VfdP@https://test.schule-fahrwangen.ch/
DTSTAMP:20260422T114826Z
CATEGORIES:SeReal
DESCRIPTION:<p>alle 3. Klassen haben am Nachmittag schulfrei</p>\n<p>Mehrzw
 eckhalle</p>
DTSTART;TZID=Europe/Zurich:20260702T180000
DTEND;TZID=Europe/Zurich:20260702T210000
SUMMARY:Zensurfeier
URL:https://www.schule-fahrwangen.ch.pragma-hosting.com/termine-sereal/26-s
 ereal/96-zensurfeier
X-ALT-DESC;FMTTYPE=TEXT/HTML:<p>alle 3. Klassen haben am Nachmittag schulfr
 ei</p>\n<p>Mehrzweckhalle</p>
END:VEVENT
BEGIN:VEVENT
UID:20260703T114500UTC-4271L6XTVU@https://schule-fahrwangen.ch/
DTSTAMP:20260422T114826Z
CATEGORIES:SeReal
DTSTART;TZID=Europe/Zurich:20260703T114500
DTEND;TZID=Europe/Zurich:20260703T114500
SUMMARY:Schulschluss für sämtliche Klassen 11.45h
URL:https://www.schule-fahrwangen.ch.pragma-hosting.com/termine-sereal/26-s
 ereal/116-schulschluss-fuer-saemtliche-klassen-11-45h
END:VEVENT
BEGIN:VEVENT
UID:20250705T160000UTC-2095behuUv@https://test.schule-fahrwangen.ch/
DTSTAMP:20260422T114826Z
CATEGORIES:Ferien
CATEGORIES:Ganze Schule
DTSTART;TZID=Europe/Zurich:20260704T000000
DTEND;TZID=Europe/Zurich:20260704T235959
SUMMARY:Sommerferien (bis 09.08.2026)
URL:https://www.schule-fahrwangen.ch.pragma-hosting.com/termine-sereal/28-f
 erien/26-sommerferien-bis-09-08-2026
END:VEVENT
END:VCALENDAR
