BEGIN:VCALENDAR
VERSION:2.0
PRODID:-//https://www.schule-fahrwangen.ch.pragma-hosting.com//NONSGML kigkonsult.se iCalcreator 2.41.71//
CALSCALE:GREGORIAN
METHOD:PUBLISH
UID:66313465-3633-4062-a431-653732343665
X-WR-CALNAME:JCal Pro Kalender
X-WR-CALDESC:Ihr Online-Terminkalender
X-WR-TIMEZONE:Europe/Zurich
BEGIN:VTIMEZONE
TZID:Europe/Zurich
TZUNTIL:20271031T010000Z
BEGIN:STANDARD
TZNAME:CET
DTSTART:20251026T030000
TZOFFSETFROM:+0200
TZOFFSETTO:+0100
RDATE:20261025T030000
END:STANDARD
BEGIN:DAYLIGHT
TZNAME:CEST
DTSTART:20260329T020000
TZOFFSETFROM:+0100
TZOFFSETTO:+0200
RDATE:20270328T020000
END:DAYLIGHT
END:VTIMEZONE
BEGIN:VEVENT
UID:20240520T160000UTC-0359A572hA@https://sf.mediarts.ch/
DTSTAMP:20260422T113642Z
CATEGORIES:schulfrei
DTSTART;TZID=Europe/Zurich:20260525T000000
DTEND;TZID=Europe/Zurich:20260525T235959
SUMMARY:Pfingstmontag - schulfrei
URL:https://www.schule-fahrwangen.ch.pragma-hosting.com/termine-sereal/29-s
 chulfrei/9-pfingstmontag
END:VEVENT
END:VCALENDAR
