BEGIN:VCALENDAR
VERSION:2.0
PRODID:-//https://www.schule-fahrwangen.ch.pragma-hosting.com//NONSGML kigkonsult.se iCalcreator 2.41.71//
CALSCALE:GREGORIAN
METHOD:PUBLISH
UID:30306630-3464-4662-a531-653230313466
X-WR-CALNAME:JCal Pro Kalender
X-WR-CALDESC:Ihr Online-Terminkalender
X-WR-TIMEZONE:Europe/Zurich
BEGIN:VTIMEZONE
TZID:Europe/Zurich
TZUNTIL:20271031T010000Z
BEGIN:STANDARD
TZNAME:CET
DTSTART:20251026T030000
TZOFFSETFROM:+0200
TZOFFSETTO:+0100
RDATE:20261025T030000
END:STANDARD
BEGIN:DAYLIGHT
TZNAME:CEST
DTSTART:20260329T020000
TZOFFSETFROM:+0100
TZOFFSETTO:+0200
RDATE:20270328T020000
END:DAYLIGHT
END:VTIMEZONE
BEGIN:VEVENT
UID:20250619T180000UTC-7699NgCvwt@https://test.schule-fahrwangen.ch/
DTSTAMP:20260422T120915Z
CATEGORIES:SeReal
DTSTART;TZID=Europe/Zurich:20260618T180000
DTEND;TZID=Europe/Zurich:20260618T190000
SUMMARY:Ausstellung Projekte und Recherchen\, TTG-Arbeiten
URL:https://www.schule-fahrwangen.ch.pragma-hosting.com/termine-sereal/26-s
 ereal/94-ausstellung-projekte-und-recherchen-ttg-arbeiten
END:VEVENT
BEGIN:VEVENT
UID:20240715T103000UTC-7875wv6Iv2@https://test.schule-fahrwangen.ch/
DTSTAMP:20260422T120915Z
CATEGORIES:Ganze Schule
DTSTART;TZID=Europe/Zurich:20260630T103000
DTEND;TZID=Europe/Zurich:20260630T114500
SUMMARY:Besuchsmorgen 6. Klassen - SeReal Fahrwangen oder Bezirksschule See
 ngen
URL:https://www.schule-fahrwangen.ch.pragma-hosting.com/termine-sereal/27-g
 anze-schule/95-besuchsmorgen-6-klassen-sereal-fahrwangen-oder-bezirksschul
 e-seengen
END:VEVENT
END:VCALENDAR
