BEGIN:VCALENDAR
VERSION:2.0
PRODID:-//https://www.schule-fahrwangen.ch.pragma-hosting.com//NONSGML kigkonsult.se iCalcreator 2.41.71//
CALSCALE:GREGORIAN
METHOD:PUBLISH
UID:65396161-3639-4331-b861-363730636265
X-WR-CALNAME:JCal Pro Kalender
X-WR-CALDESC:Ihr Online-Terminkalender
X-WR-TIMEZONE:Europe/Zurich
BEGIN:VTIMEZONE
TZID:Europe/Zurich
TZUNTIL:20271031T010000Z
BEGIN:STANDARD
TZNAME:CET
DTSTART:20251026T030000
TZOFFSETFROM:+0200
TZOFFSETTO:+0100
RDATE:20261025T030000
END:STANDARD
BEGIN:DAYLIGHT
TZNAME:CEST
DTSTART:20260329T020000
TZOFFSETFROM:+0100
TZOFFSETTO:+0200
RDATE:20270328T020000
END:DAYLIGHT
END:VTIMEZONE
BEGIN:VEVENT
UID:20260503T100000UTC-4022S9U5H6@https://schule-fahrwangen.ch/
DTSTAMP:20260422T121405Z
CATEGORIES:SeReal
DTSTART;TZID=Europe/Zurich:20260503T000000
DTEND;TZID=Europe/Zurich:20260503T235959
SUMMARY:Schnellste/r Fahrwanger/in
URL:https://www.schule-fahrwangen.ch.pragma-hosting.com/termine-sereal/26-s
 ereal/122-schnellste-r-fahrwanger-in
END:VEVENT
END:VCALENDAR
