BEGIN:VCALENDAR
VERSION:2.0
PRODID:-//https://www.schule-fahrwangen.ch.pragma-hosting.com//NONSGML kigkonsult.se iCalcreator 2.41.71//
CALSCALE:GREGORIAN
METHOD:PUBLISH
UID:33313834-3033-4963-b063-373564636236
X-WR-CALNAME:JCal Pro Kalender
X-WR-CALDESC:Ihr Online-Terminkalender
X-WR-TIMEZONE:Europe/Zurich
BEGIN:VTIMEZONE
TZID:Europe/Zurich
TZUNTIL:20271031T010000Z
BEGIN:STANDARD
TZNAME:CET
DTSTART:20251026T030000
TZOFFSETFROM:+0200
TZOFFSETTO:+0100
RDATE:20261025T030000
END:STANDARD
BEGIN:DAYLIGHT
TZNAME:CEST
DTSTART:20260329T020000
TZOFFSETFROM:+0100
TZOFFSETTO:+0200
RDATE:20270328T020000
END:DAYLIGHT
END:VTIMEZONE
BEGIN:VEVENT
UID:20260703T000000UTC-5507WJ7TxP@https://schule-fahrwangen.ch/
DTSTAMP:20260422T100559Z
CATEGORIES:Primarschule
DESCRIPTION:<p><span>&nbsp\;<strong>Unterricht von 9:10 – 11:30 Uhr (Primar
  und Kiga)</strong></span></p>\n<ul>\n<li><span>Die traditionelle „Ine- un
 d Uselütete“ schliesst das Schuljahr 2025/26 ab.</span></li>\n<li><span>Na
 chmittags ist schulfrei.</span></li>\n<li><span>Kein Mittagstisch &amp\; k
 eine Nachmittagsbetreuung!</span></li>\n</ul>
DTSTART;TZID=Europe/Zurich:20260703T091000
DTEND;TZID=Europe/Zurich:20260703T113000
SUMMARY:Spezialstundenplan inkl. Ine- & Uselütete
URL:https://www.schule-fahrwangen.ch.pragma-hosting.com/termine-primar/25-u
 ncategorised/120-spezialstundenplan-inkl-ine-useluetete
X-ALT-DESC;FMTTYPE=TEXT/HTML:<p><span>&nbsp\;<strong>Unterricht von 9:10 – 
 11:30 Uhr (Primar und Kiga)</strong></span></p>\n<ul>\n<li><span>Die tradi
 tionelle „Ine- und Uselütete“ schliesst das Schuljahr 2025/26 ab.</span></
 li>\n<li><span>Nachmittags ist schulfrei.</span></li>\n<li><span>Kein Mitt
 agstisch &amp\; keine Nachmittagsbetreuung!</span></li>\n</ul>
END:VEVENT
END:VCALENDAR
