BEGIN:VCALENDAR
VERSION:2.0
PRODID:-//https://www.schule-fahrwangen.ch.pragma-hosting.com//NONSGML kigkonsult.se iCalcreator 2.41.71//
CALSCALE:GREGORIAN
METHOD:PUBLISH
UID:30643530-3635-4064-a636-363331663833
X-WR-CALNAME:JCal Pro Kalender
X-WR-CALDESC:Ihr Online-Terminkalender
X-WR-TIMEZONE:Europe/Zurich
BEGIN:VTIMEZONE
TZID:Europe/Zurich
TZUNTIL:20271031T010000Z
BEGIN:STANDARD
TZNAME:CET
DTSTART:20251026T030000
TZOFFSETFROM:+0200
TZOFFSETTO:+0100
RDATE:20261025T030000
END:STANDARD
BEGIN:DAYLIGHT
TZNAME:CEST
DTSTART:20260329T020000
TZOFFSETFROM:+0100
TZOFFSETTO:+0200
RDATE:20270328T020000
END:DAYLIGHT
END:VTIMEZONE
BEGIN:VEVENT
UID:20260615T080000UTC-2595xGkG7d@https://schule-fahrwangen.ch/
DTSTAMP:20260422T090142Z
CATEGORIES:Primarschule
DTSTART;TZID=Europe/Zurich:20260615T080000
DTEND;TZID=Europe/Zurich:20260615T114500
SUMMARY:Fahrradprüfung 4. Klasse
URL:https://www.schule-fahrwangen.ch.pragma-hosting.com/termine-primar/25-u
 ncategorised/119-fahrradpruefung-4-klasse
END:VEVENT
END:VCALENDAR
